BEGIN:VCALENDAR
VERSION:2.0
PRODID:-// - ECPv4.9.14//NONSGML v1.0//EN
CALSCALE:GREGORIAN
METHOD:PUBLISH
X-ORIGINAL-URL:https://hockeyballarat.com.au
X-WR-CALDESC:Events for 
BEGIN:VTIMEZONE
TZID:Australia/Melbourne
BEGIN:STANDARD
TZOFFSETFROM:+1100
TZOFFSETTO:+1000
TZNAME:AEST
DTSTART:20200404T160000
END:STANDARD
BEGIN:DAYLIGHT
TZOFFSETFROM:+1000
TZOFFSETTO:+1100
TZNAME:AEDT
DTSTART:20201003T160000
END:DAYLIGHT
END:VTIMEZONE
BEGIN:VEVENT
DTSTART;TZID=Australia/Melbourne:20200308T093000
DTEND;TZID=Australia/Melbourne:20200308T150000
DTSTAMP:20200301T104333
CREATED:20191119T210019Z
LAST-MODIFIED:20191119T210303Z
UID:1463-1583659800-1583679600@hockeyballarat.com.au
SUMMARY:South West Academy
DESCRIPTION:
URL:https://hockeyballarat.com.au/event/westvic-junior-trials-2/
LOCATION:Ballarat Hockey Centre\, Gillies Street\, Ballarat\, Victoria\, 3350\, Australia
END:VEVENT
END:VCALENDAR