BEGIN:VCALENDAR
VERSION:2.0
PRODID:-// - ECPv4.9.14//NONSGML v1.0//EN
CALSCALE:GREGORIAN
METHOD:PUBLISH
X-ORIGINAL-URL:https://hockeyballarat.com.au
X-WR-CALDESC:Events for 
BEGIN:VTIMEZONE
TZID:UTC
BEGIN:STANDARD
TZOFFSETFROM:+0000
TZOFFSETTO:+0000
TZNAME:UTC
DTSTART:20200101T000000
END:STANDARD
END:VTIMEZONE
BEGIN:VEVENT
DTSTART;TZID=UTC:20200301T090000
DTEND;TZID=UTC:20200301T120000
DTSTAMP:20200301T103659
CREATED:20200216T033339Z
LAST-MODIFIED:20200216T033339Z
UID:1538-1583053200-1583064000@hockeyballarat.com.au
SUMMARY:JCC
DESCRIPTION:
URL:https://hockeyballarat.com.au/event/jcc-2/
END:VEVENT
END:VCALENDAR