BEGIN:VCALENDAR
VERSION:2.0
PRODID:-// - ECPv4.9.14//NONSGML v1.0//EN
CALSCALE:GREGORIAN
METHOD:PUBLISH
X-ORIGINAL-URL:https://hockeyballarat.com.au
X-WR-CALDESC:Events for 
BEGIN:VTIMEZONE
TZID:Australia/Melbourne
BEGIN:STANDARD
TZOFFSETFROM:+1100
TZOFFSETTO:+1000
TZNAME:AEST
DTSTART:20200404T160000
END:STANDARD
BEGIN:DAYLIGHT
TZOFFSETFROM:+1000
TZOFFSETTO:+1100
TZNAME:AEDT
DTSTART:20201003T160000
END:DAYLIGHT
END:VTIMEZONE
BEGIN:VEVENT
DTSTART;TZID=Australia/Melbourne:20200227T180000
DTEND;TZID=Australia/Melbourne:20200227T200000
DTSTAMP:20200301T103403
CREATED:20200216T040748Z
LAST-MODIFIED:20200216T040748Z
UID:1554-1582826400-1582833600@hockeyballarat.com.au
SUMMARY:Bobcats Hockey Club
DESCRIPTION:
URL:https://hockeyballarat.com.au/event/bobcats-hockey-club-2/
END:VEVENT
END:VCALENDAR